BEGIN:VCALENDAR
VERSION:2.0
PRODID:-//Mason City Municipal Airport - ECPv6.10.1.1//NONSGML v1.0//EN
CALSCALE:GREGORIAN
METHOD:PUBLISH
X-WR-CALNAME:Mason City Municipal Airport
X-ORIGINAL-URL:https://flymcw.com
X-WR-CALDESC:Events for Mason City Municipal Airport
REFRESH-INTERVAL;VALUE=DURATION:PT1H
X-Robots-Tag:noindex
X-PUBLISHED-TTL:PT1H
BEGIN:VTIMEZONE
TZID:UTC
BEGIN:STANDARD
TZOFFSETFROM:+0000
TZOFFSETTO:+0000
TZNAME:UTC
DTSTART:20180101T000000
END:STANDARD
END:VTIMEZONE
BEGIN:VEVENT
DTSTART;TZID=UTC:20180108T160000
DTEND;TZID=UTC:20180108T170000
DTSTAMP:20260421T200416
CREATED:20150414T004025Z
LAST-MODIFIED:20171227T173252Z
UID:561-1515427200-1515430800@flymcw.com
SUMMARY:Airport Commission Meeting
DESCRIPTION:The regular monthly meeting of the Mason City Airport Commission will be held in the Joni E. Dunn Meeting Room\, on the second floor of the Mason City Municipal Airport Terminal.
URL:https://flymcw.com/event/airport-commission-meeting/
LOCATION:Mason City Municipal Airport Terminal – Joni E. Dunn Meeting Room\, 9184 265th St\, Clear Lake\, IA\, 50428\, United States
CATEGORIES:Airport Events,Commission Meetings
END:VEVENT
END:VCALENDAR